BEGIN:VCALENDAR
VERSION:2.0
PRODID:SchoolNow
CALSCALE:GREGORIAN
BEGIN:VEVENT
UID:35543136-eafc-11e9-bbe7-1211f21fccf8
DTSTAMP:20191010T012055Z
SUMMARY:Memorial Day
URL;VALUE=URI:https://www.winchesterschools.org/pearson-school/calendar/211
 8455/memorial-day
DTSTART;VALUE=DATE:20200525
DTEND;VALUE=DATE:20200526
END:VEVENT
END:VCALENDAR
