BEGIN:VCALENDAR
VERSION:2.0
PRODID:SchoolNow
CALSCALE:GREGORIAN
BEGIN:VEVENT
UID:e338444e-ebbb-11e9-a519-0ac7a6f01907
DTSTAMP:20191011T001301Z
SUMMARY:Talent Show - Snow Date
LOCATION:Pearson School
URL;VALUE=URI:https://www.winchesterschools.org/pearson-school/calendar/211
 9060/talent-show-snow-date
DTSTART:20191122T230000Z
DTEND:20191123T010000Z
END:VEVENT
END:VCALENDAR
