BEGIN:VCALENDAR
VERSION:2.0
PRODID:SchoolNow
CALSCALE:GREGORIAN
BEGIN:VEVENT
UID:3511ff7e-ebbe-11e9-8b9d-0ac7a6f01907
DTSTAMP:20191025T172322Z
SUMMARY:STEAM Night
LOCATION:Batcheller School
URL;VALUE=URI:https://www.winchesterschools.org/pearson-school/calendar/211
 9091/family-steam-night
DTSTART:20191029T210000Z
DTEND:20191029T233000Z
END:VEVENT
END:VCALENDAR
