BEGIN:VCALENDAR
VERSION:2.0
PRODID:SchoolNow
CALSCALE:GREGORIAN
BEGIN:VEVENT
UID:e02aaf64-f749-11e9-9c0a-0a12edd5b191
DTSTAMP:20191025T170707Z
SUMMARY:Wolf Pack Game
URL;VALUE=URI:https://www.winchesterschools.org/pearson-school/calendar/213
 1946/wolf-pack-game
DTSTART:20191208T010000Z
DTEND:20191208T020000Z
END:VEVENT
END:VCALENDAR
