BEGIN:VCALENDAR
VERSION:2.0
PRODID:SchoolNow
CALSCALE:GREGORIAN
BEGIN:VEVENT
UID:3321d972-f74a-11e9-b10d-0a12edd5b191
DTSTAMP:20191025T170934Z
SUMMARY:Show Choir Concert
URL;VALUE=URI:https://www.winchesterschools.org/pearson-school/calendar/213
 1948/show-choir-concert
DTSTART:20191211T230000Z
DTEND:20191212T010000Z
END:VEVENT
END:VCALENDAR
