BEGIN:VCALENDAR
VERSION:2.0
PRODID:SchoolNow
CALSCALE:GREGORIAN
BEGIN:VEVENT
UID:a76315ee-f74a-11e9-a48e-0a12edd5b191
DTSTAMP:20191025T171241Z
SUMMARY:Show Choir Snow Date
URL;VALUE=URI:https://www.winchesterschools.org/pearson-school/calendar/213
 1950/show-choir-snow-date
DTSTART:20191212T230000Z
DTEND:20191213T010000Z
END:VEVENT
END:VCALENDAR
