BEGIN:VCALENDAR
VERSION:2.0
PRODID:SchoolNow
CALSCALE:GREGORIAN
BEGIN:VEVENT
UID:64364092-f74b-11e9-9258-0aa63ffb69db
DTSTAMP:20191025T171758Z
SUMMARY:Drama Club Auditions
URL;VALUE=URI:https://www.winchesterschools.org/pearson-school/calendar/213
 1955/drama-club-auditions
DTSTART:20191217T200000Z
DTEND:20191217T220000Z
END:VEVENT
END:VCALENDAR
