BEGIN:VCALENDAR
VERSION:2.0
PRODID:SchoolNow
CALSCALE:GREGORIAN
BEGIN:VEVENT
UID:6a114336-f74b-11e9-a2b2-0aa63ffb69db
DTSTAMP:20191025T171808Z
SUMMARY:Drama Club Auditions
URL;VALUE=URI:https://www.winchesterschools.org/pearson-school/calendar/213
 1956/drama-club-auditions
DTSTART:20191218T200000Z
DTEND:20191218T220000Z
END:VEVENT
END:VCALENDAR
