BEGIN:VCALENDAR
VERSION:2.0
PRODID:SchoolNow
CALSCALE:GREGORIAN
BEGIN:VEVENT
UID:703d4e4e-f74b-11e9-8d45-0aa63ffb69db
DTSTAMP:20191025T171818Z
SUMMARY:Drama Club Auditions
URL;VALUE=URI:https://www.winchesterschools.org/pearson-school/calendar/213
 1957/drama-club-auditions
DTSTART:20191219T200000Z
DTEND:20191219T220000Z
END:VEVENT
END:VCALENDAR
