BEGIN:VCALENDAR
VERSION:2.0
PRODID:SchoolNow
CALSCALE:GREGORIAN
BEGIN:VEVENT
UID:d5f685ac-f74b-11e9-b2d7-0a12edd5b191
DTSTAMP:20191025T172109Z
SUMMARY:Drama Rehearsals Begin
URL;VALUE=URI:https://www.winchesterschools.org/pearson-school/calendar/213
 1959/drama-rehearsals-begin
DTSTART:20191206T200000Z
DTEND:20191206T220000Z
END:VEVENT
END:VCALENDAR
