BEGIN:VCALENDAR
VERSION:2.0
PRODID:SchoolNow
CALSCALE:GREGORIAN
BEGIN:VEVENT
UID:0c1d4634-f74c-11e9-af6c-0a12edd5b191
DTSTAMP:20191025T172538Z
SUMMARY:STEAM Night
URL;VALUE=URI:https://www.winchesterschools.org/pearson-school/calendar/213
 1961/steam-night
DTSTART:20200127T223000Z
DTEND:20200128T010000Z
END:VEVENT
END:VCALENDAR
