BEGIN:VCALENDAR
VERSION:2.0
PRODID:SchoolNow
CALSCALE:GREGORIAN
BEGIN:VEVENT
UID:d0978812-f74c-11e9-b860-0aa63ffb69db
DTSTAMP:20191025T172810Z
SUMMARY:Drama Club Pasta Dinner
URL;VALUE=URI:https://www.winchesterschools.org/pearson-school/calendar/213
 1963/drama-club-pasta-dinner
DTSTART:20200131T213000Z
DTEND:20200201T003000Z
END:VEVENT
END:VCALENDAR
