BEGIN:VCALENDAR
VERSION:2.0
PRODID:SchoolNow
CALSCALE:GREGORIAN
BEGIN:VEVENT
UID:53114fd0-f74d-11e9-a721-0aa63ffb69db
DTSTAMP:20191025T173148Z
SUMMARY:Drama Club Pasta Dinner Snow Date
URL;VALUE=URI:https://www.winchesterschools.org/pearson-school/calendar/213
 1969/drama-club-pasta-dinner-snow-date
DTSTART:20200207T213000Z
DTEND:20200208T003000Z
END:VEVENT
END:VCALENDAR
