BEGIN:VCALENDAR
VERSION:2.0
PRODID:SchoolNow
CALSCALE:GREGORIAN
BEGIN:VEVENT
UID:8ab8a10e-f74d-11e9-a570-0aa63ffb69db
DTSTAMP:20191025T173322Z
SUMMARY:STEAM Night Snow Date
URL;VALUE=URI:https://www.winchesterschools.org/pearson-school/calendar/213
 1971/steam-night-snow-date
DTSTART:20200210T223000Z
DTEND:20200211T003000Z
END:VEVENT
END:VCALENDAR
