BEGIN:VCALENDAR
VERSION:2.0
PRODID:SchoolNow
CALSCALE:GREGORIAN
BEGIN:VEVENT
UID:c43b4724-f74d-11e9-9189-0a06c89ef749
DTSTAMP:20191025T173458Z
SUMMARY:Drama Field Experience
URL;VALUE=URI:https://www.winchesterschools.org/pearson-school/calendar/213
 1973/drama-field-experience
DTSTART:20200318T130000Z
DTEND:20200319T000000Z
END:VEVENT
END:VCALENDAR
