BEGIN:VCALENDAR
VERSION:2.0
PRODID:SchoolNow
CALSCALE:GREGORIAN
BEGIN:VEVENT
UID:d71977e4-02f6-11ea-941a-0a77219c272f
DTSTAMP:20191109T134640Z
SUMMARY:Special Meeting
LOCATION:The Gilbert School Guidance Room
URL;VALUE=URI:https://www.winchesterschools.org/pearson-school/calendar/214
 2410/special-meeting
DTSTART:20191114T130000Z
DTEND:20191114T133000Z
END:VEVENT
END:VCALENDAR
