BEGIN:VCALENDAR
VERSION:2.0
PRODID:SchoolNow
CALSCALE:GREGORIAN
BEGIN:VEVENT
UID:a546a702-2130-11ea-a03a-0a6d1bd72a5d
DTSTAMP:20191218T005220Z
SUMMARY:2-Hour Delayed Opening
URL;VALUE=URI:https://www.winchesterschools.org/pearson-school/calendar/216
 2102/2-hour-delayed-opening
DTSTART:20191218T120000Z
DTEND:20191219T014800Z
END:VEVENT
END:VCALENDAR
