BEGIN:VCALENDAR
VERSION:2.0
PRODID:SchoolNow
CALSCALE:GREGORIAN
BEGIN:VEVENT
UID:344b41ce-48c8-11ea-883b-1249fee6d3f9
DTSTAMP:20200206T100529Z
SUMMARY:2-Hour Delay
URL;VALUE=URI:https://www.winchesterschools.org/pearson-school/calendar/219
 6642/2-hour-delay
DTSTART:20200206T220300Z
DTEND:20200206T230300Z
END:VEVENT
END:VCALENDAR
