BEGIN:VCALENDAR
VERSION:2.0
PRODID:SchoolNow
CALSCALE:GREGORIAN
BEGIN:VEVENT
UID:e87ad9de-728a-11ea-9192-120c4cfe0bc1
DTSTAMP:20200401T172045Z
SUMMARY:Special Meeting - CANCELED
LOCATION:Virtual Meeting
URL;VALUE=URI:https://www.winchesterschools.org/pearson-school/calendar/222
 6558/special-meeting
DTSTART:20200402T220000Z
DTEND:20200402T230000Z
END:VEVENT
END:VCALENDAR
