BEGIN:VCALENDAR
VERSION:2.0
PRODID:SchoolNow
CALSCALE:GREGORIAN
BEGIN:VEVENT
UID:0c158e96-7f3f-11ea-b9f0-122c36e3f9fd
DTSTAMP:20200415T173215Z
SUMMARY:HSRC Virtual Meeting
URL;VALUE=URI:https://www.winchesterschools.org/pearson-school/calendar/223
 7792/hsrc-virtual-meeting
DTSTART:20200416T220000Z
DTEND:20200416T230000Z
END:VEVENT
END:VCALENDAR
