BEGIN:VCALENDAR
VERSION:2.0
PRODID:SchoolNow
CALSCALE:GREGORIAN
BEGIN:VEVENT
UID:94f21f58-9c46-11ea-86ce-0afffc5e7b41
DTSTAMP:20200522T160914Z
SUMMARY:Finance Committee Meeting
LOCATION:Virtual Zoom Meeting
URL;VALUE=URI:https://www.winchesterschools.org/pearson-school/calendar/225
 1405/finance-committee-meeting
DTSTART:20200526T160500Z
DTEND:20200526T170500Z
END:VEVENT
END:VCALENDAR
