BEGIN:VCALENDAR
VERSION:2.0
PRODID:SchoolNow
CALSCALE:GREGORIAN
BEGIN:VEVENT
UID:c825e29e-a1a8-11ea-b8e6-0a25409b4647
DTSTAMP:20200529T123447Z
SUMMARY:HSRC Meeting
LOCATION:Zoom Meeting
URL;VALUE=URI:https://www.winchesterschools.org/pearson-school/calendar/225
 4413/hsrc-meeting
DTSTART:20200601T220000Z
DTEND:20200601T230000Z
END:VEVENT
END:VCALENDAR
