BEGIN:VCALENDAR
VERSION:2.0
PRODID:SchoolNow
CALSCALE:GREGORIAN
BEGIN:VEVENT
UID:22edbf76-1878-11eb-8977-0a9417812bd7
DTSTAMP:20201027T171622Z
SUMMARY:AD Hoc Committee Meeting
LOCATION:Town Hall - Blue Room
URL;VALUE=URI:https://www.winchesterschools.org/pearson-school/calendar/248
 2017/ad-hoc-committee-meeting
DTSTART:20201029T230000Z
DTEND:20201030T000000Z
END:VEVENT
END:VCALENDAR
