BEGIN:VCALENDAR
VERSION:2.0
PRODID:SchoolNow
CALSCALE:GREGORIAN
BEGIN:VEVENT
UID:4c9e9074-2846-11eb-b4cf-0a2d6d96c4e9
DTSTAMP:20201116T195956Z
SUMMARY:Ad Hoc Committee Meeting
LOCATION:Virtual Meeting
URL;VALUE=URI:https://www.winchesterschools.org/pearson-school/calendar/249
 8058/ad-hoc-committee-meeting
DTSTART:20201120T000000Z
DTEND:20201120T020000Z
END:VEVENT
END:VCALENDAR
