BEGIN:VCALENDAR
VERSION:2.0
PRODID:SchoolNow
CALSCALE:GREGORIAN
BEGIN:VEVENT
UID:7d867376-445e-11eb-95ae-0256bf18b30b
DTSTAMP:20210106T175709Z
SUMMARY:Ad Hoc Committee Meeting - Canceled
LOCATION:Virtual Meeting
URL;VALUE=URI:https://www.winchesterschools.org/pearson-school/calendar/251
 6639/ad-hoc-committee-meeting
DTSTART:20210108T000000Z
DTEND:20210108T010000Z
END:VEVENT
END:VCALENDAR
