BEGIN:VCALENDAR
VERSION:2.0
PRODID:SchoolNow
CALSCALE:GREGORIAN
BEGIN:VEVENT
UID:1f9ebfd8-54f4-11eb-bba0-0a391e97f6cb
DTSTAMP:20210112T163504Z
SUMMARY:HSRC Meeting
LOCATION:Virtual Meeting
URL;VALUE=URI:https://www.winchesterschools.org/pearson-school/calendar/252
 3676/hsrc-meeting
DTSTART:20210119T230000Z
DTEND:20210120T000000Z
END:VEVENT
END:VCALENDAR
