BEGIN:VCALENDAR
VERSION:2.0
PRODID:SchoolNow
CALSCALE:GREGORIAN
BEGIN:VEVENT
UID:e6c2f67a-2cfc-11ec-b769-0ea05c921e01
DTSTAMP:20211014T144205Z
SUMMARY:Special Meeting
LOCATION:Town Hall - Blue Room
URL;VALUE=URI:https://www.winchesterschools.org/pearson-school/calendar/281
 4517/special-meeting
DTSTART:20211026T220000Z
DTEND:20211026T230000Z
END:VEVENT
END:VCALENDAR
