BEGIN:VCALENDAR
VERSION:2.0
PRODID:SchoolNow
CALSCALE:GREGORIAN
BEGIN:VEVENT
UID:a4ce3ca4-6fa8-11ec-9894-02932a94059f
DTSTAMP:20220107T105745Z
SUMMARY:Schools Closed - Snow Day
URL;VALUE=URI:https://www.winchesterschools.org/pearson-school/calendar/305
 1371/schools-closed-snow-day
DTSTART;VALUE=DATE:20220107
DTEND;VALUE=DATE:20220108
END:VEVENT
END:VCALENDAR
