BEGIN:VCALENDAR
VERSION:2.0
PRODID:SchoolNow
CALSCALE:GREGORIAN
BEGIN:VEVENT
UID:3a485cf0-7bc0-11ed-a9b8-021535ef0a3f
DTSTAMP:20221219T141122Z
SUMMARY:Committee Meetings - Canceled
LOCATION:Town Hall - Hicks Room
URL;VALUE=URI:https://www.winchesterschools.org/pearson-school/calendar/364
 3814/committee-meetings
DTSTART;VALUE=DATE:20221220
DTEND;VALUE=DATE:20221221
END:VEVENT
END:VCALENDAR
