BEGIN:VCALENDAR
VERSION:2.0
PRODID:SchoolNow
CALSCALE:GREGORIAN
BEGIN:VEVENT
UID:5bdef36a-7bc0-11ed-ae82-021535ef0a3f
DTSTAMP:20221214T150242Z
SUMMARY:Committee Meetings
LOCATION:Town Hall - Blue Room
URL;VALUE=URI:https://www.winchesterschools.org/pearson-school/calendar/364
 3822/committee-meetings
DTSTART:20221129T233000Z
DTEND:20221130T020000Z
END:VEVENT
END:VCALENDAR
