BEGIN:VCALENDAR
VERSION:2.0
PRODID:SchoolNow
CALSCALE:GREGORIAN
BEGIN:VEVENT
UID:c0e2d100-7bc0-11ed-9ea5-021535ef0a3f
DTSTAMP:20221214T150531Z
SUMMARY:Board of Education Regular Meeting
LOCATION:Town Hall - Hicks Room
URL;VALUE=URI:https://www.winchesterschools.org/pearson-school/calendar/364
 3832/board-of-education-regular-meeting
DTSTART:20230208T000000Z
DTEND:20230208T010000Z
END:VEVENT
END:VCALENDAR
