BEGIN:VCALENDAR
VERSION:2.0
PRODID:SchoolNow
CALSCALE:GREGORIAN
BEGIN:VEVENT
UID:41eb50e2-7bc1-11ed-8427-021535ef0a3f
DTSTAMP:20230209T153432Z
SUMMARY:Regular Board of Education Meeting
LOCATION:Town Hall Hicks Room
URL;VALUE=URI:https://www.winchesterschools.org/pearson-school/calendar/364
 3843/regular-board-of-education-meeting
DTSTART:20230418T230000Z
DTEND:20230419T000000Z
END:VEVENT
END:VCALENDAR
