BEGIN:VCALENDAR
VERSION:2.0
PRODID:SchoolNow
CALSCALE:GREGORIAN
BEGIN:VEVENT
UID:bae9f9a8-7bc1-11ed-86d2-021535ef0a3f
DTSTAMP:20221214T151231Z
SUMMARY:Regular Board of Education Meeting
LOCATION:Town Hall Hicks Room
URL;VALUE=URI:https://www.winchesterschools.org/pearson-school/calendar/364
 3859/regular-board-of-education-meeting
DTSTART:20230808T230000Z
DTEND:20230809T000000Z
END:VEVENT
END:VCALENDAR
