BEGIN:VCALENDAR
VERSION:2.0
PRODID:SchoolNow
CALSCALE:GREGORIAN
BEGIN:VEVENT
UID:e0be9756-7bc1-11ed-a592-021535ef0a3f
DTSTAMP:20221214T151334Z
SUMMARY:Regular Board of Education Meeting
LOCATION:Town Hall Hicks Room
URL;VALUE=URI:https://www.winchesterschools.org/pearson-school/calendar/364
 3864/regular-board-of-education-meeting
DTSTART:20230912T230000Z
DTEND:20230913T000000Z
END:VEVENT
END:VCALENDAR
