BEGIN:VCALENDAR
VERSION:2.0
PRODID:SchoolNow
CALSCALE:GREGORIAN
BEGIN:VEVENT
UID:054524ea-7bc3-11ed-957e-021535ef0a3f
DTSTAMP:20221214T152145Z
SUMMARY:Committee Meetings
LOCATION:Hinsdale School
URL;VALUE=URI:https://www.winchesterschools.org/pearson-school/calendar/364
 3904/committee-meetings
DTSTART:20230523T223000Z
DTEND:20230523T233000Z
END:VEVENT
END:VCALENDAR
