BEGIN:VCALENDAR
VERSION:2.0
PRODID:SchoolNow
CALSCALE:GREGORIAN
BEGIN:VEVENT
UID:d898b7b6-7d36-11ed-adbd-027cb3ec5289
DTSTAMP:20221216T114323Z
SUMMARY:Closed - Snow Day
URL;VALUE=URI:https://www.winchesterschools.org/pearson-school/calendar/364
 5962/closed-snow-day
DTSTART;VALUE=DATE:20221216
DTEND;VALUE=DATE:20221217
END:VEVENT
END:VCALENDAR
