BEGIN:VCALENDAR
VERSION:2.0
PRODID:SchoolNow
CALSCALE:GREGORIAN
BEGIN:VEVENT
UID:46af7dac-9c9a-11ed-ae8e-0a0beeff7931
DTSTAMP:20230125T102314Z
SUMMARY:Early Dismissal
URL;VALUE=URI:https://www.winchesterschools.org/pearson-school/calendar/368
 9227/early-dismissal
DTSTART;VALUE=DATE:20230125
DTEND;VALUE=DATE:20230126
END:VEVENT
END:VCALENDAR
