BEGIN:VCALENDAR
VERSION:2.0
PRODID:SchoolNow
CALSCALE:GREGORIAN
BEGIN:VEVENT
UID:440fc17c-b768-11ed-9237-025d5c4f3055
DTSTAMP:20230228T132432Z
SUMMARY:Special Meeting - Postponed to March 7\, 2023
LOCATION:Hinsdale School or Virtual
URL;VALUE=URI:https://www.winchesterschools.org/pearson-school/calendar/379
 4088/special-meeting
DTSTART:20230228T230000Z
DTEND:20230301T000000Z
END:VEVENT
END:VCALENDAR
